BEGIN:VCALENDAR
VERSION:2.0
PRODID:-//Gemini//Semesterprogramm//DE
CALSCALE:GREGORIAN
X-APPLE-CALENDAR-COLOR:#8A2BE2
BEGIN:VTIMEZONE
TZID:Europe/Berlin
BEGIN:DAYLIGHT
TZOFFSETFROM:+0100
TZOFFSETTO:+0200
TZNAME:CEST
DTSTART:19700329T020000
RRULE:FREQ=YEARLY;BYMONTH=3;BYDAY=-1SU
END:DAYLIGHT
BEGIN:STANDARD
TZOFFSETFROM:+0200
TZOFFSETTO:+0100
TZNAME:CET
DTSTART:19701025T030000
RRULE:FREQ=YEARLY;BYMONTH=10;BYDAY=-1SU
END:STANDARD
END:VTIMEZONE

BEGIN:VEVENT
UID:20260407T200000@gemini.local
DTSTAMP:20260319T133900Z
DTSTART;TZID=Europe/Berlin:20260407T200000
DTEND;TZID=Europe/Berlin:20260407T220000
SUMMARY:Antrittsconvent
COLOR:Violet
BEGIN:VALARM
ACTION:DISPLAY
DESCRIPTION:Erinnerung: Antrittsconvent in 24 Stunden
TRIGGER:-PT24H
END:VALARM
BEGIN:VALARM
ACTION:DISPLAY
DESCRIPTION:Erinnerung: Antrittsconvent in 2 Wochen
TRIGGER:-P14D
END:VALARM
END:VEVENT

BEGIN:VEVENT
UID:20260408@gemini.local
DTSTAMP:20260319T133900Z
DTSTART;VALUE=DATE:20260408
DTEND;VALUE=DATE:20260409
SUMMARY:Haus- und Gartentag
COLOR:Violet
BEGIN:VALARM
ACTION:DISPLAY
DESCRIPTION:Erinnerung: Haus- und Gartentag in 24 Stunden
TRIGGER:-PT24H
END:VALARM
BEGIN:VALARM
ACTION:DISPLAY
DESCRIPTION:Erinnerung: Haus- und Gartentag in 2 Wochen
TRIGGER:-P14D
END:VALARM
END:VEVENT

BEGIN:VEVENT
UID:20260408T200000@gemini.local
DTSTAMP:20260319T133900Z
DTSTART;TZID=Europe/Berlin:20260408T200000
DTEND;TZID=Europe/Berlin:20260408T220000
SUMMARY:Kneipenbummel
COLOR:Violet
BEGIN:VALARM
ACTION:DISPLAY
DESCRIPTION:Erinnerung: Kneipenbummel in 24 Stunden
TRIGGER:-PT24H
END:VALARM
BEGIN:VALARM
ACTION:DISPLAY
DESCRIPTION:Erinnerung: Kneipenbummel in 2 Wochen
TRIGGER:-P14D
END:VALARM
END:VEVENT

BEGIN:VEVENT
UID:20260411T200000@gemini.local
DTSTAMP:20260319T133900Z
DTSTART;TZID=Europe/Berlin:20260411T200000
DTEND;TZID=Europe/Berlin:20260411T230000
SUMMARY:Semesterantrittskneipe
COLOR:Violet
BEGIN:VALARM
ACTION:DISPLAY
DESCRIPTION:Erinnerung: Semesterantrittskneipe in 24 Stunden
TRIGGER:-PT24H
END:VALARM
BEGIN:VALARM
ACTION:DISPLAY
DESCRIPTION:Erinnerung: Semesterantrittskneipe in 2 Wochen
TRIGGER:-P14D
END:VALARM
END:VEVENT

BEGIN:VEVENT
UID:20260425@gemini.local
DTSTAMP:20260319T133900Z
DTSTART;VALUE=DATE:20260425
DTEND;VALUE=DATE:20260426
SUMMARY:1. oMT des MWRs
COLOR:Violet
BEGIN:VALARM
ACTION:DISPLAY
DESCRIPTION:Erinnerung: 1. oMT des MWRs in 24 Stunden
TRIGGER:-PT24H
END:VALARM
BEGIN:VALARM
ACTION:DISPLAY
DESCRIPTION:Erinnerung: 1. oMT des MWRs in 2 Wochen
TRIGGER:-P14D
END:VALARM
END:VEVENT

BEGIN:VEVENT
UID:20260427T200000@gemini.local
DTSTAMP:20260319T133900Z
DTSTART;TZID=Europe/Berlin:20260427T200000
DTEND;TZID=Europe/Berlin:20260427T220000
SUMMARY:Convent
COLOR:Violet
BEGIN:VALARM
ACTION:DISPLAY
DESCRIPTION:Erinnerung: Convent in 24 Stunden
TRIGGER:-PT24H
END:VALARM
BEGIN:VALARM
ACTION:DISPLAY
DESCRIPTION:Erinnerung: Convent in 2 Wochen
TRIGGER:-P14D
END:VALARM
END:VEVENT

BEGIN:VEVENT
UID:20260509T200000@gemini.local
DTSTAMP:20260319T133900Z
DTSTART;TZID=Europe/Berlin:20260509T200000
DTEND;TZID=Europe/Berlin:20260509T230000
SUMMARY:Trauerkneipe
COLOR:Violet
BEGIN:VALARM
ACTION:DISPLAY
DESCRIPTION:Erinnerung: Trauerkneipe in 24 Stunden
TRIGGER:-PT24H
END:VALARM
BEGIN:VALARM
ACTION:DISPLAY
DESCRIPTION:Erinnerung: Trauerkneipe in 2 Wochen
TRIGGER:-P14D
END:VALARM
END:VEVENT

BEGIN:VEVENT
UID:20260518T200000@gemini.local
DTSTAMP:20260319T133900Z
DTSTART;TZID=Europe/Berlin:20260518T200000
DTEND;TZID=Europe/Berlin:20260518T220000
SUMMARY:Convent
COLOR:Violet
BEGIN:VALARM
ACTION:DISPLAY
DESCRIPTION:Erinnerung: Convent in 24 Stunden
TRIGGER:-PT24H
END:VALARM
BEGIN:VALARM
ACTION:DISPLAY
DESCRIPTION:Erinnerung: Convent in 2 Wochen
TRIGGER:-P14D
END:VALARM
END:VEVENT

BEGIN:VEVENT
UID:20260527T200000@gemini.local
DTSTAMP:20260319T133900Z
DTSTART;TZID=Europe/Berlin:20260527T200000
DTEND;TZID=Europe/Berlin:20260527T220000
SUMMARY:Haus- und Gartentag
COLOR:Violet
BEGIN:VALARM
ACTION:DISPLAY
DESCRIPTION:Erinnerung: Haus- und Gartentag in 24 Stunden
TRIGGER:-PT24H
END:VALARM
BEGIN:VALARM
ACTION:DISPLAY
DESCRIPTION:Erinnerung: Haus- und Gartentag in 2 Wochen
TRIGGER:-P14D
END:VALARM
END:VEVENT

BEGIN:VEVENT
UID:20260529_Stiftungsfest@gemini.local
DTSTAMP:20260319T133900Z
DTSTART;VALUE=DATE:20260529
DTEND;VALUE=DATE:20260601
SUMMARY:189. Stiftungsfest (Ganzes Wochenende)
COLOR:Violet
BEGIN:VALARM
ACTION:DISPLAY
DESCRIPTION:Erinnerung: 189. Stiftungsfest in 24 Stunden
TRIGGER:-PT24H
END:VALARM
BEGIN:VALARM
ACTION:DISPLAY
DESCRIPTION:Erinnerung: 189. Stiftungsfest in 2 Wochen
TRIGGER:-P14D
END:VALARM
END:VEVENT

BEGIN:VEVENT
UID:20260529T190000@gemini.local
DTSTAMP:20260319T133900Z
DTSTART;TZID=Europe/Berlin:20260529T190000
DTEND;TZID=Europe/Berlin:20260529T230000
SUMMARY:Begrüßungsabend
COLOR:Violet
BEGIN:VALARM
ACTION:DISPLAY
DESCRIPTION:Erinnerung: Begrüßungsabend in 24 Stunden
TRIGGER:-PT24H
END:VALARM
BEGIN:VALARM
ACTION:DISPLAY
DESCRIPTION:Erinnerung: Begrüßungsabend in 2 Wochen
TRIGGER:-P14D
END:VALARM
END:VEVENT

BEGIN:VEVENT
UID:20260530T110000@gemini.local
DTSTAMP:20260319T133900Z
DTSTART;TZID=Europe/Berlin:20260530T110000
DTEND;TZID=Europe/Berlin:20260530T130000
SUMMARY:Bundesversammlung
COLOR:Violet
BEGIN:VALARM
ACTION:DISPLAY
DESCRIPTION:Erinnerung: Bundesversammlung in 24 Stunden
TRIGGER:-PT24H
END:VALARM
BEGIN:VALARM
ACTION:DISPLAY
DESCRIPTION:Erinnerung: Bundesversammlung in 2 Wochen
TRIGGER:-P14D
END:VALARM
END:VEVENT

BEGIN:VEVENT
UID:20260530T200000@gemini.local
DTSTAMP:20260319T133900Z
DTSTART;TZID=Europe/Berlin:20260530T200000
DTEND;TZID=Europe/Berlin:20260530T230000
SUMMARY:189. Stiftungsfestkneipe
COLOR:Violet
BEGIN:VALARM
ACTION:DISPLAY
DESCRIPTION:Erinnerung: 189. Stiftungsfestkneipe in 24 Stunden
TRIGGER:-PT24H
END:VALARM
BEGIN:VALARM
ACTION:DISPLAY
DESCRIPTION:Erinnerung: 189. Stiftungsfestkneipe in 2 Wochen
TRIGGER:-P14D
END:VALARM
END:VEVENT

BEGIN:VEVENT
UID:20260531T110000@gemini.local
DTSTAMP:20260319T133900Z
DTSTART;TZID=Europe/Berlin:20260531T110000
DTEND;TZID=Europe/Berlin:20260531T140000
SUMMARY:Exbummel
COLOR:Violet
BEGIN:VALARM
ACTION:DISPLAY
DESCRIPTION:Erinnerung: Exbummel in 24 Stunden
TRIGGER:-PT24H
END:VALARM
BEGIN:VALARM
ACTION:DISPLAY
DESCRIPTION:Erinnerung: Exbummel in 2 Wochen
TRIGGER:-P14D
END:VALARM
END:VEVENT

BEGIN:VEVENT
UID:20260601T200000@gemini.local
DTSTAMP:20260319T133900Z
DTSTART;TZID=Europe/Berlin:20260601T200000
DTEND;TZID=Europe/Berlin:20260601T220000
SUMMARY:Mittconvent
COLOR:Violet
BEGIN:VALARM
ACTION:DISPLAY
DESCRIPTION:Erinnerung: Mittconvent in 24 Stunden
TRIGGER:-PT24H
END:VALARM
BEGIN:VALARM
ACTION:DISPLAY
DESCRIPTION:Erinnerung: Mittconvent in 2 Wochen
TRIGGER:-P14D
END:VALARM
END:VEVENT

BEGIN:VEVENT
UID:20260610T190000@gemini.local
DTSTAMP:20260319T133900Z
DTSTART;TZID=Europe/Berlin:20260610T190000
DTEND;TZID=Europe/Berlin:20260610T220000
SUMMARY:American BBQ
COLOR:Violet
BEGIN:VALARM
ACTION:DISPLAY
DESCRIPTION:Erinnerung: American BBQ in 24 Stunden
TRIGGER:-PT24H
END:VALARM
BEGIN:VALARM
ACTION:DISPLAY
DESCRIPTION:Erinnerung: American BBQ in 2 Wochen
TRIGGER:-P14D
END:VALARM
END:VEVENT

BEGIN:VEVENT
UID:20260615T200000@gemini.local
DTSTAMP:20260319T133900Z
DTSTART;TZID=Europe/Berlin:20260615T200000
DTEND;TZID=Europe/Berlin:20260615T220000
SUMMARY:Convent
COLOR:Violet
BEGIN:VALARM
ACTION:DISPLAY
DESCRIPTION:Erinnerung: Convent in 24 Stunden
TRIGGER:-PT24H
END:VALARM
BEGIN:VALARM
ACTION:DISPLAY
DESCRIPTION:Erinnerung: Convent in 2 Wochen
TRIGGER:-P14D
END:VALARM
END:VEVENT

BEGIN:VEVENT
UID:20260626T200000@gemini.local
DTSTAMP:20260319T133900Z
DTSTART;TZID=Europe/Berlin:20260626T200000
DTEND;TZID=Europe/Berlin:20260626T230000
SUMMARY:Cocktail- und Tanzabend
COLOR:Violet
BEGIN:VALARM
ACTION:DISPLAY
DESCRIPTION:Erinnerung: Cocktail- und Tanzabend in 24 Stunden
TRIGGER:-PT24H
END:VALARM
BEGIN:VALARM
ACTION:DISPLAY
DESCRIPTION:Erinnerung: Cocktail- und Tanzabend in 2 Wochen
TRIGGER:-P14D
END:VALARM
END:VEVENT

BEGIN:VEVENT
UID:20260629T200000@gemini.local
DTSTAMP:20260319T133900Z
DTSTART;TZID=Europe/Berlin:20260629T200000
DTEND;TZID=Europe/Berlin:20260629T220000
SUMMARY:Convent
COLOR:Violet
BEGIN:VALARM
ACTION:DISPLAY
DESCRIPTION:Erinnerung: Convent in 24 Stunden
TRIGGER:-PT24H
END:VALARM
BEGIN:VALARM
ACTION:DISPLAY
DESCRIPTION:Erinnerung: Convent in 2 Wochen
TRIGGER:-P14D
END:VALARM
END:VEVENT

BEGIN:VEVENT
UID:20260630T200000@gemini.local
DTSTAMP:20260319T133900Z
DTSTART;TZID=Europe/Berlin:20260630T200000
DTEND;TZID=Europe/Berlin:20260630T220000
SUMMARY:BA: Privates Vermögen für öffentliche Infrastruktur
COLOR:Violet
BEGIN:VALARM
ACTION:DISPLAY
DESCRIPTION:Erinnerung: BA: Privates Vermögen... in 24 Stunden
TRIGGER:-PT24H
END:VALARM
BEGIN:VALARM
ACTION:DISPLAY
DESCRIPTION:Erinnerung: BA: Privates Vermögen... in 2 Wochen
TRIGGER:-P14D
END:VALARM
END:VEVENT

BEGIN:VEVENT
UID:20260704@gemini.local
DTSTAMP:20260319T133900Z
DTSTART;VALUE=DATE:20260704
DTEND;VALUE=DATE:20260705
SUMMARY:2. oMT des MWRs
COLOR:Violet
BEGIN:VALARM
ACTION:DISPLAY
DESCRIPTION:Erinnerung: 2. oMT des MWRs in 24 Stunden
TRIGGER:-PT24H
END:VALARM
BEGIN:VALARM
ACTION:DISPLAY
DESCRIPTION:Erinnerung: 2. oMT des MWRs in 2 Wochen
TRIGGER:-P14D
END:VALARM
END:VEVENT

BEGIN:VEVENT
UID:20260711T180000@gemini.local
DTSTAMP:20260319T133900Z
DTSTART;TZID=Europe/Berlin:20260711T180000
DTEND;TZID=Europe/Berlin:20260711T220000
SUMMARY:Weinabend mit AH Dahnke
COLOR:Violet
BEGIN:VALARM
ACTION:DISPLAY
DESCRIPTION:Erinnerung: Weinabend in 24 Stunden
TRIGGER:-PT24H
END:VALARM
BEGIN:VALARM
ACTION:DISPLAY
DESCRIPTION:Erinnerung: Weinabend in 2 Wochen
TRIGGER:-P14D
END:VALARM
END:VEVENT

BEGIN:VEVENT
UID:20260713T200000@gemini.local
DTSTAMP:20260319T133900Z
DTSTART;TZID=Europe/Berlin:20260713T200000
DTEND;TZID=Europe/Berlin:20260713T220000
SUMMARY:Wahlconvent
COLOR:Violet
BEGIN:VALARM
ACTION:DISPLAY
DESCRIPTION:Erinnerung: Wahlconvent in 24 Stunden
TRIGGER:-PT24H
END:VALARM
BEGIN:VALARM
ACTION:DISPLAY
DESCRIPTION:Erinnerung: Wahlconvent in 2 Wochen
TRIGGER:-P14D
END:VALARM
END:VEVENT

BEGIN:VEVENT
UID:20260718T200000@gemini.local
DTSTAMP:20260319T133900Z
DTSTART;TZID=Europe/Berlin:20260718T200000
DTEND;TZID=Europe/Berlin:20260718T230000
SUMMARY:Semesterabschlusskneipe mit einer ehrenfesten Alten Münsterschen L! im CC Rhenania
COLOR:Violet
BEGIN:VALARM
ACTION:DISPLAY
DESCRIPTION:Erinnerung: Semesterabschlusskneipe in 24 Stunden
TRIGGER:-PT24H
END:VALARM
BEGIN:VALARM
ACTION:DISPLAY
DESCRIPTION:Erinnerung: Semesterabschlusskneipe in 2 Wochen
TRIGGER:-P14D
END:VALARM
END:VEVENT

BEGIN:VEVENT
UID:20260720T200000@gemini.local
DTSTAMP:20260319T133900Z
DTSTART;TZID=Europe/Berlin:20260720T200000
DTEND;TZID=Europe/Berlin:20260720T220000
SUMMARY:Abconvent
COLOR:Violet
BEGIN:VALARM
ACTION:DISPLAY
DESCRIPTION:Erinnerung: Abconvent in 24 Stunden
TRIGGER:-PT24H
END:VALARM
BEGIN:VALARM
ACTION:DISPLAY
DESCRIPTION:Erinnerung: Abconvent in 2 Wochen
TRIGGER:-P14D
END:VALARM
END:VEVENT

BEGIN:VEVENT
UID:20260821_Gautreffen@gemini.local
DTSTAMP:20260319T133900Z
DTSTART;VALUE=DATE:20260821
DTEND;VALUE=DATE:20260824
SUMMARY:Gautreffen in Hannoversch Münden
COLOR:Violet
BEGIN:VALARM
ACTION:DISPLAY
DESCRIPTION:Erinnerung: Gautreffen in 24 Stunden
TRIGGER:-PT24H
END:VALARM
BEGIN:VALARM
ACTION:DISPLAY
DESCRIPTION:Erinnerung: Gautreffen in 2 Wochen
TRIGGER:-P14D
END:VALARM
END:VEVENT

BEGIN:VEVENT
UID:20260919@gemini.local
DTSTAMP:20260319T133900Z
DTSTART;VALUE=DATE:20260919
DTEND;VALUE=DATE:20260920
SUMMARY:3. oMT des MWRs
COLOR:Violet
BEGIN:VALARM
ACTION:DISPLAY
DESCRIPTION:Erinnerung: 3. oMT des MWRs in 24 Stunden
TRIGGER:-PT24H
END:VALARM
BEGIN:VALARM
ACTION:DISPLAY
DESCRIPTION:Erinnerung: 3. oMT des MWRs in 2 Wochen
TRIGGER:-P14D
END:VALARM
END:VEVENT

END:VCALENDAR